BEGIN:VCALENDAR
VERSION:2.0
PRODID:-//Awakening The Mystic - ECPv6.15.20//NONSGML v1.0//EN
CALSCALE:GREGORIAN
METHOD:PUBLISH
X-WR-CALNAME:Awakening The Mystic
X-ORIGINAL-URL:https://awakeningthemystic.net
X-WR-CALDESC:Events for Awakening The Mystic
REFRESH-INTERVAL;VALUE=DURATION:PT1H
X-Robots-Tag:noindex
X-PUBLISHED-TTL:PT1H
BEGIN:VTIMEZONE
TZID:UTC
BEGIN:STANDARD
TZOFFSETFROM:+0000
TZOFFSETTO:+0000
TZNAME:UTC
DTSTART:20250101T000000
END:STANDARD
END:VTIMEZONE
BEGIN:VEVENT
DTSTART;TZID=UTC:20260325T190000
DTEND;TZID=UTC:20260325T203000
DTSTAMP:20260423T170006
CREATED:20251231T071130Z
LAST-MODIFIED:20251231T071130Z
UID:3168-1774465200-1774470600@awakeningthemystic.net
SUMMARY:Book & Books – Coral Gables\, FL
DESCRIPTION:Join us for an evening with Rob Dorgen\, author of Awakening the Mystic\, a powerful novel that blends spirituality\, love\, and self-discovery.\nWhen yoga teacher Ren Devlin performs a public “miracle\,” he’s thrust into unexpected fame and a search for deeper meaning. Guided by divine figures of the zodiac\, Ren embarks on a journey through meditation\, faith\, and personal reckoning to uncover what healing and love truly mean. \n🎟 Free & open to the public · RSVP recommended
URL:https://awakeningthemystic.net/event/book-books-coral-gables-fl/
LOCATION:Books & Books\, 265 Aragon Avenue\, Coral Gables\, FL\, 33134\, United States
ATTACH;FMTTYPE=image/jpeg:https://awakeningthemystic.net/wp-content/uploads/2025/01/booksigning.jpg
END:VEVENT
END:VCALENDAR