BEGIN:VCALENDAR
VERSION:2.0
PRODID:-//Awakening The Mystic - ECPv6.15.20//NONSGML v1.0//EN
CALSCALE:GREGORIAN
METHOD:PUBLISH
X-WR-CALNAME:Awakening The Mystic
X-ORIGINAL-URL:https://awakeningthemystic.net
X-WR-CALDESC:Events for Awakening The Mystic
REFRESH-INTERVAL;VALUE=DURATION:PT1H
X-Robots-Tag:noindex
X-PUBLISHED-TTL:PT1H
BEGIN:VTIMEZONE
TZID:UTC
BEGIN:STANDARD
TZOFFSETFROM:+0000
TZOFFSETTO:+0000
TZNAME:UTC
DTSTART:20240101T000000
END:STANDARD
END:VTIMEZONE
BEGIN:VEVENT
DTSTART;TZID=UTC:20250301T193000
DTEND;TZID=UTC:20250301T213000
DTSTAMP:20260421T205851
CREATED:20250104T181120Z
LAST-MODIFIED:20250104T181120Z
UID:2655-1740857400-1740864600@awakeningthemystic.net
SUMMARY:Awakening The Mystic Storytelling & Reading Performance + Book Signing
DESCRIPTION:Don’t miss the second evening of our storytelling and reading performance of Awakening The Mystic at the Falcon Theater in Newport\, KY.\nImmerse yourself in the tale of Ren Devlin\, a spiritual seeker whose journey is guided by celestial deities\, and discover the transformative power of cosmic love and healing. \nDetails:\n\nDate: Saturday\, March 1st\, 2025\nTime: 7:30 PM\nLocation: Falcon Theater\, 636 Monmouth St\, Newport\, KY\n\nHighlights:\n\nA live storytelling and reading performance from Awakening The Mystic.\nA Q&A session with the authors.\nA book signing session after the event.\n\nTickets: Secure your seat now! Visit https://awakeningthemystic.bpt.me/. \nAdditional Information: Please arrive early to grab a cup of coffee\, find your seat\, and get ready for an enchanting evening.
URL:https://awakeningthemystic.net/event/awakening-the-mystic-storytelling-reading-performance-book-signing/
LOCATION:Falcon Theater\, 636 Monmouth St\, Newport\, KY\, 41071\, United States
ATTACH;FMTTYPE=image/jpeg:https://awakeningthemystic.net/wp-content/uploads/2025/01/performance.jpg
ORGANIZER;CN="Rob & Steve":MAILTO:rob@robandsteve.co
END:VEVENT
BEGIN:VEVENT
DTSTART;TZID=UTC:20250309T140000
DTEND;TZID=UTC:20250309T160000
DTSTAMP:20260421T205851
CREATED:20250104T181506Z
LAST-MODIFIED:20250128T074549Z
UID:2657-1741528800-1741536000@awakeningthemystic.net
SUMMARY:Awakening The Mystic Reading & Book Signing with Gourmet Food and Wine
DESCRIPTION:  \nIndulge in an intimate afternoon of literature and fine dining at Taste on Elm in Ludlow\, KY.\nJoin us for selected readings from Awakening The Mystic\, followed by a book signing\, all while savoring gourmet food and wine in an elegant setting. \nDetails:\n\nDate: Sunday\, March 9th\, 2025\nTime: 2:00–4:00 PM\nLocation: Taste on Elm\, 227 Elm St\, Ludlow\, KY\nCost: $45.00 per person (includes gourmet food and wine)\n\nHighlights:\n\nEngaging readings from Awakening The Mystic.\nBook signing session with the authors.\nA curated selection of gourmet dishes and fine wine.\n\nReservations:\nSeating is limited to 30 guests\, so secure your spot today! Call 859.916.8488 to reserve your place OR BOOK HERE. \nAdditional Information: This is a unique opportunity to combine your love of fine dining and literature in an exclusive and intimate setting. Don’t miss this unforgettable event!
URL:https://awakeningthemystic.net/event/awakening-the-mystic-reading-book-signing-with-gourmet-food-and-wine/
LOCATION:Taste On Elm\, 227 Elm St\, Ludlow\, KY\, United States
ATTACH;FMTTYPE=image/jpeg:https://awakeningthemystic.net/wp-content/uploads/2025/01/Awakening-The-Mystic-Reading-Book-Signing-with-Gourmet-Food-and-Wine-2.jpg
ORGANIZER;CN="Rob & Steve":MAILTO:rob@robandsteve.co
END:VEVENT
END:VCALENDAR