BEGIN:VCALENDAR
VERSION:2.0
PRODID:-//Awakening The Mystic - ECPv6.15.20//NONSGML v1.0//EN
CALSCALE:GREGORIAN
METHOD:PUBLISH
X-WR-CALNAME:Awakening The Mystic
X-ORIGINAL-URL:https://awakeningthemystic.net
X-WR-CALDESC:Events for Awakening The Mystic
REFRESH-INTERVAL;VALUE=DURATION:PT1H
X-Robots-Tag:noindex
X-PUBLISHED-TTL:PT1H
BEGIN:VTIMEZONE
TZID:UTC
BEGIN:STANDARD
TZOFFSETFROM:+0000
TZOFFSETTO:+0000
TZNAME:UTC
DTSTART:20240101T000000
END:STANDARD
END:VTIMEZONE
BEGIN:VEVENT
DTSTART;TZID=UTC:20250504T153000
DTEND;TZID=UTC:20250504T173000
DTSTAMP:20260424T002608
CREATED:20250122T102232Z
LAST-MODIFIED:20250127T092951Z
UID:2718-1746372600-1746379800@awakeningthemystic.net
SUMMARY:Awakening The Mystic Book Signing At Embra Yoga Studio
DESCRIPTION:Join us for an engaging afternoon featuring selected readings and a book signing of Awakening The Mystic\, a novel by Rob Dorgan and Steve Bolia that explores themes of cosmic love and healing.\nAbout the Book:\nAwakening The Mystic follows yoga teacher Ren Devlin\, whose life transforms when his meditation practices lead to miraculous events. Guided by deities of the zodiac\, Ren embarks on a journey of spiritual healing\, confronting personal and societal challenges to embrace the healing powers of the divine feminine. \nAbout the Authors:\nRob Dorgan and Steve Bolia blend their diverse interests in world history\, astrology\, yoga\, and meditation to craft a spiritual narrative filled with hope and the magic of love. \nEvent Highlights:\n\nSelected readings from Awakening The Mystic\nQ&A session with the authors\nBook signing opportunity\n\nAdditional Information:\n\nBook Availability: Copies of Awakening The Mystic will be available for purchase at the event.\n\nWe look forward to sharing this inspiring journey with you.
URL:https://awakeningthemystic.net/event/awakening-the-mystic-book-signing-embra-studio/
LOCATION:Embra Yoga Studio\, 3527 Columbia Parkway\, Cincinnati\, 45226\, United States
ATTACH;FMTTYPE=image/jpeg:https://awakeningthemystic.net/wp-content/uploads/2025/01/booksigning.jpg
ORGANIZER;CN="Rob & Steve":MAILTO:rob@robandsteve.co
END:VEVENT
BEGIN:VEVENT
DTSTART;TZID=UTC:20250503T130000
DTEND;TZID=UTC:20250503T150000
DTSTAMP:20260424T002608
CREATED:20250127T093645Z
LAST-MODIFIED:20250127T093645Z
UID:2761-1746277200-1746284400@awakeningthemystic.net
SUMMARY:Awakening The Mystic Book Signing At Joseph Beth Booksellers
DESCRIPTION:Join us for an engaging afternoon featuring selected readings and a book signing of Awakening The Mystic\, a novel by Rob Dorgan and Steve Bolia that explores themes of cosmic love and healing.\nAbout the Book:\nAwakening The Mystic follows yoga teacher Ren Devlin\, whose life transforms when his meditation practices lead to miraculous events. Guided by deities of the zodiac\, Ren embarks on a journey of spiritual healing\, confronting personal and societal challenges to embrace the healing powers of the divine feminine. \nAbout the Authors:\nRob Dorgan and Steve Bolia blend their diverse interests in world history\, astrology\, yoga\, and meditation to craft a spiritual narrative filled with hope and the magic of love. \nEvent Highlights:\n\nSelected readings from Awakening The Mystic\nQ&A session with the authors\nBook signing opportunity\n\nAdditional Information:\n\nBook Availability: Copies of Awakening The Mystic will be available for purchase at the event.\n\nWe look forward to sharing this inspiring journey with you.
URL:https://awakeningthemystic.net/event/awakening-the-mystic-book-signing-at-joseph-beth-booksellers/
LOCATION:Joseph Beth Booksellers\, Rookwood Commons\, 2692 Madison Rd.\, Cincinnati\, United States
ATTACH;FMTTYPE=image/jpeg:https://awakeningthemystic.net/wp-content/uploads/2025/01/booksigning.jpg
ORGANIZER;CN="Rob & Steve":MAILTO:rob@robandsteve.co
END:VEVENT
BEGIN:VEVENT
DTSTART;TZID=UTC:20250413T163000
DTEND;TZID=UTC:20250413T183000
DTSTAMP:20260424T002608
CREATED:20250122T101819Z
LAST-MODIFIED:20250205T184113Z
UID:2714-1744561800-1744569000@awakeningthemystic.net
SUMMARY:Awakening The Mystic Book Signing At Shine Yoga Studio
DESCRIPTION:Join us for an engaging afternoon featuring selected readings and a book signing of Awakening The Mystic\, a novel by Rob Dorgan and Steve Bolia that explores themes of cosmic love and healing.\nAbout the Book:\nAwakening The Mystic follows yoga teacher Ren Devlin\, whose life transforms when his meditation practices lead to miraculous events. Guided by deities of the zodiac\, Ren embarks on a journey of spiritual healing\, confronting personal and societal challenges to embrace the healing powers of the divine feminine. \nAbout the Authors:\nRob Dorgan and Steve Bolia blend their diverse interests in world history\, astrology\, yoga\, and meditation to craft a spiritual narrative filled with hope and the magic of love. \nEvent Highlights:\n\nSelected readings from Awakening The Mystic\nQ&A session with the authors\nBook signing opportunity\n\nAdditional Information:\n\nBook Availability: Copies of Awakening The Mystic will be available for purchase at the event.\n\nWe look forward to sharing this inspiring journey with you.
URL:https://awakeningthemystic.net/event/awakening-the-mystic-book-signing-shine-studio/
LOCATION:Shine Yoga Studio\, 3330 Eire Ave.\, Cincinnati\, OH\, 45208\, United States
ATTACH;FMTTYPE=image/jpeg:https://awakeningthemystic.net/wp-content/uploads/2025/01/booksigning.jpg
ORGANIZER;CN="Rob & Steve":MAILTO:rob@robandsteve.co
END:VEVENT
BEGIN:VEVENT
DTSTART;TZID=UTC:20250309T140000
DTEND;TZID=UTC:20250309T160000
DTSTAMP:20260424T002608
CREATED:20250104T181506Z
LAST-MODIFIED:20250128T074549Z
UID:2657-1741528800-1741536000@awakeningthemystic.net
SUMMARY:Awakening The Mystic Reading & Book Signing with Gourmet Food and Wine
DESCRIPTION:  \nIndulge in an intimate afternoon of literature and fine dining at Taste on Elm in Ludlow\, KY.\nJoin us for selected readings from Awakening The Mystic\, followed by a book signing\, all while savoring gourmet food and wine in an elegant setting. \nDetails:\n\nDate: Sunday\, March 9th\, 2025\nTime: 2:00–4:00 PM\nLocation: Taste on Elm\, 227 Elm St\, Ludlow\, KY\nCost: $45.00 per person (includes gourmet food and wine)\n\nHighlights:\n\nEngaging readings from Awakening The Mystic.\nBook signing session with the authors.\nA curated selection of gourmet dishes and fine wine.\n\nReservations:\nSeating is limited to 30 guests\, so secure your spot today! Call 859.916.8488 to reserve your place OR BOOK HERE. \nAdditional Information: This is a unique opportunity to combine your love of fine dining and literature in an exclusive and intimate setting. Don’t miss this unforgettable event!
URL:https://awakeningthemystic.net/event/awakening-the-mystic-reading-book-signing-with-gourmet-food-and-wine/
LOCATION:Taste On Elm\, 227 Elm St\, Ludlow\, KY\, United States
ATTACH;FMTTYPE=image/jpeg:https://awakeningthemystic.net/wp-content/uploads/2025/01/Awakening-The-Mystic-Reading-Book-Signing-with-Gourmet-Food-and-Wine-2.jpg
ORGANIZER;CN="Rob & Steve":MAILTO:rob@robandsteve.co
END:VEVENT
BEGIN:VEVENT
DTSTART;TZID=UTC:20250301T193000
DTEND;TZID=UTC:20250301T213000
DTSTAMP:20260424T002608
CREATED:20250104T181120Z
LAST-MODIFIED:20250104T181120Z
UID:2655-1740857400-1740864600@awakeningthemystic.net
SUMMARY:Awakening The Mystic Storytelling & Reading Performance + Book Signing
DESCRIPTION:Don’t miss the second evening of our storytelling and reading performance of Awakening The Mystic at the Falcon Theater in Newport\, KY.\nImmerse yourself in the tale of Ren Devlin\, a spiritual seeker whose journey is guided by celestial deities\, and discover the transformative power of cosmic love and healing. \nDetails:\n\nDate: Saturday\, March 1st\, 2025\nTime: 7:30 PM\nLocation: Falcon Theater\, 636 Monmouth St\, Newport\, KY\n\nHighlights:\n\nA live storytelling and reading performance from Awakening The Mystic.\nA Q&A session with the authors.\nA book signing session after the event.\n\nTickets: Secure your seat now! Visit https://awakeningthemystic.bpt.me/. \nAdditional Information: Please arrive early to grab a cup of coffee\, find your seat\, and get ready for an enchanting evening.
URL:https://awakeningthemystic.net/event/awakening-the-mystic-storytelling-reading-performance-book-signing/
LOCATION:Falcon Theater\, 636 Monmouth St\, Newport\, KY\, 41071\, United States
ATTACH;FMTTYPE=image/jpeg:https://awakeningthemystic.net/wp-content/uploads/2025/01/performance.jpg
ORGANIZER;CN="Rob & Steve":MAILTO:rob@robandsteve.co
END:VEVENT
BEGIN:VEVENT
DTSTART;TZID=UTC:20250228T193000
DTEND;TZID=UTC:20250228T213000
DTSTAMP:20260424T002608
CREATED:20250104T180715Z
LAST-MODIFIED:20250104T180735Z
UID:2651-1740771000-1740778200@awakeningthemystic.net
SUMMARY:Awakening The Mystic Storytelling & Reading Performance (SOLD OUT)
DESCRIPTION:Join us for a mesmerizing evening of storytelling and selected readings from Awakening The Mystic at the Falcon Theater in Newport\, KY.\nThis SOLD-OUT event promises to transport attendees into the mystical journey of Ren Devlin\, a yoga teacher whose meditation practice unlocks miraculous transformations. \nDetails:\n\nDate: Friday\, February 28th\, 2025 (SOLD OUT)\nTime: 7:30 PM\nLocation: Falcon Theater\, 636 Monmouth St\, Newport\, KY\n\nHighlights:\n\nA dynamic performance blending storytelling and selected passages from the book.\nA book signing session following the event.\n\nNote: Please arrive early to enjoy complimentary refreshments and secure your seat before the performance begins.
URL:https://awakeningthemystic.net/event/awakening-the-mystic-storytelling-reading-performance-sold-out/
LOCATION:Falcon Theater\, 636 Monmouth St\, Newport\, KY\, 41071\, United States
ATTACH;FMTTYPE=image/jpeg:https://awakeningthemystic.net/wp-content/uploads/2025/01/performance.jpg
ORGANIZER;CN="Rob & Steve":MAILTO:rob@robandsteve.co
END:VEVENT
BEGIN:VEVENT
DTSTART;TZID=UTC:20250227T110000
DTEND;TZID=UTC:20250227T120000
DTSTAMP:20260424T002608
CREATED:20250104T180233Z
LAST-MODIFIED:20250122T104544Z
UID:2646-1740654000-1740657600@awakeningthemystic.net
SUMMARY:Awakening The Mystic Book Signing At Roebling Books
DESCRIPTION:Join us for an engaging afternoon featuring selected readings and a book signing of Awakening The Mystic\, a novel by Rob Dorgan and Steve Bolia that explores themes of cosmic love and healing.\nAbout the Book:\nAwakening The Mystic follows yoga teacher Ren Devlin\, whose life transforms when his meditation practices lead to miraculous events. Guided by deities of the zodiac\, Ren embarks on a journey of spiritual healing\, confronting personal and societal challenges to embrace the healing powers of the divine feminine. \nAbout the Authors:\nRob Dorgan and Steve Bolia blend their diverse interests in world history\, astrology\, yoga\, and meditation to craft a spiritual narrative filled with hope and the magic of love. \nEvent Highlights:\n\nSelected readings from Awakening The Mystic\nQ&A session with the authors\nBook signing opportunity\n\nAdditional Information:\n\nRefreshments: Complimentary coffee will be available. Please arrive early to enjoy a cup and settle in before the readings begin.\nBook Availability: Copies of Awakening The Mystic will be available for purchase at the event.\n\nWe look forward to sharing this inspiring journey with you.
URL:https://awakeningthemystic.net/event/awakening-the-mystic-book-signing/
LOCATION:Roebling Books\, 601 Overton St\, Newport\, KY\, 41071\, United States
ATTACH;FMTTYPE=image/jpeg:https://awakeningthemystic.net/wp-content/uploads/2025/01/booksigning.jpg
ORGANIZER;CN="Rob & Steve":MAILTO:rob@robandsteve.co
END:VEVENT
END:VCALENDAR